BEGIN:VCALENDAR
VERSION:2.0
PRODID:-//hacksw/handcal//NONSGML v1.0//EN
CALSCALE:GREGORIAN
BEGIN:VEVENT
LOCATION:Urban Art Collective (Chamblee)
DESCRIPTION:https://www.atlantaonthecheap.com/event/spring-art-walk-urban-art-collective/
DTSTART;TZID=America/New_York:20260426T110000
DTEND;TZID=America/New_York:20260426T160000
SUMMARY:Spring Art Walk
URL;VALUE=URI:https://www.atlantaonthecheap.com/event/spring-art-walk-urban-art-collective/
DTSTAMP:20260424T141011
UID:69ebb2036e126
END:VEVENT
END:VCALENDAR