BEGIN:VCALENDAR
VERSION:2.0
PRODID:-//hacksw/handcal//NONSGML v1.0//EN
CALSCALE:GREGORIAN
BEGIN:VEVENT
LOCATION:
DESCRIPTION:https://www.atlantaonthecheap.com/event/mothers-day-market-stillfire-brewing/
DTSTART;TZID=America/New_York:20260508T180000
DTEND;TZID=America/New_York:20260508T210000
SUMMARY:Mother's Day Market: artisan booths\, food trucks\, playground\, live music\, more
URL;VALUE=URI:https://www.atlantaonthecheap.com/event/mothers-day-market-stillfire-brewing/
DTSTAMP:20260422T202209
UID:69e96631b731c
END:VEVENT
END:VCALENDAR