BEGIN:VCALENDAR
VERSION:2.0
PRODID:-//hacksw/handcal//NONSGML v1.0//EN
CALSCALE:GREGORIAN
BEGIN:VEVENT
LOCATION:Mableton Town Square Park
DESCRIPTION:https://www.atlantaonthecheap.com/event/mableton-day-festival/
DTSTART;TZID=America/New_York:20260530T110000
DTEND;TZID=America/New_York:20260530T160000
SUMMARY:Mableton Day Festival
URL;VALUE=URI:https://www.atlantaonthecheap.com/event/mableton-day-festival/
DTSTAMP:20260422T203431
UID:69e969175472a
END:VEVENT
END:VCALENDAR