BEGIN:VCALENDAR
VERSION:2.0
PRODID:-//hacksw/handcal//NONSGML v1.0//EN
CALSCALE:GREGORIAN
BEGIN:VEVENT
LOCATION:Lilburn City Park\, 76 Main Street\, Lilburn\, GA
DESCRIPTION:https://www.atlantaonthecheap.com/event/lilburn-splash-bash/
DTSTART;TZID=America/New_York:20260430T120000
DTEND;TZID=America/New_York:20260430T150000
SUMMARY:Splash Bash: splash pad opens\, vendors\, food trucks\, DJ\, games\, more
URL;VALUE=URI:https://www.atlantaonthecheap.com/event/lilburn-splash-bash/
DTSTAMP:20260422T204546
UID:69e96bbae4eb2
END:VEVENT
END:VCALENDAR