BEGIN:VCALENDAR
VERSION:2.0
PRODID:-//hacksw/handcal//NONSGML v1.0//EN
CALSCALE:GREGORIAN
BEGIN:VEVENT
LOCATION:George Pierce Park (Suwanee)\, 55 Buford Hwy \, Suwanee \, GA
DESCRIPTION:https://www.atlantaonthecheap.com/event/hop-into-spring-festival/
DTSTART;TZID=America/New_York:20260425T130000
DTEND;TZID=America/New_York:20260425T160000
SUMMARY:Hop Into Spring Festival: bounce houses\, food trucks\, activities\, more
URL;VALUE=URI:https://www.atlantaonthecheap.com/event/hop-into-spring-festival/
DTSTAMP:20260421T222543
UID:69e831a783d3e
END:VEVENT
END:VCALENDAR