BEGIN:VCALENDAR
VERSION:2.0
PRODID:-//hacksw/handcal//NONSGML v1.0//EN
CALSCALE:GREGORIAN
BEGIN:VEVENT
LOCATION:George Pierce Park (Suwanee)\, 55 Buford Hwy \, Suwanee \, GA
DESCRIPTION:https://www.atlantaonthecheap.com/event/kids-to-parks-day-6/
DTSTART;TZID=America/New_York:20260516T130000
DTEND;TZID=America/New_York:20260516T160000
SUMMARY:Kids to Parks Day event in Suwanee
URL;VALUE=URI:https://www.atlantaonthecheap.com/event/kids-to-parks-day-6/
DTSTAMP:20260424T125157
UID:69eb9fad4ccb9
END:VEVENT
END:VCALENDAR