BEGIN:VCALENDAR
VERSION:2.0
PRODID:-//hacksw/handcal//NONSGML v1.0//EN
CALSCALE:GREGORIAN
BEGIN:VEVENT
LOCATION:The Bowl Amphitheater (Sugar Hill)
DESCRIPTION:https://www.atlantaonthecheap.com/event/north-gwinnett-jazz-festival/
DTSTART;TZID=America/New_York:20260425T090000
DTEND;TZID=America/New_York:20260425T210000
SUMMARY:North Gwinnett Jazz Festival
URL;VALUE=URI:https://www.atlantaonthecheap.com/event/north-gwinnett-jazz-festival/
DTSTAMP:20260420T154200
UID:69e68188a8ec0
END:VEVENT
END:VCALENDAR