BEGIN:VCALENDAR
VERSION:2.0
PRODID:-//hacksw/handcal//NONSGML v1.0//EN
CALSCALE:GREGORIAN
BEGIN:VEVENT
LOCATION:Church at Wieuca (Buckhead)
DESCRIPTION:https://www.atlantaonthecheap.com/event/atlanta-community-symphony-orchestra-spring-concert/
DTSTART;TZID=America/New_York:20260517T160000
DTEND;TZID=America/New_York:20260517T173000
SUMMARY:Atlanta Community Symphony Orcherstra free concert
URL;VALUE=URI:https://www.atlantaonthecheap.com/event/atlanta-community-symphony-orchestra-spring-concert/
DTSTAMP:20260420T175449
UID:69e6a0a92ef4c
END:VEVENT
END:VCALENDAR