BEGIN:VCALENDAR
VERSION:2.0
PRODID:-//hacksw/handcal//NONSGML v1.0//EN
CALSCALE:GREGORIAN
BEGIN:VEVENT
LOCATION:Brook Run Park (Dunwoody)\, 4770 North Peachtree Rd. \, Dunwoody\, GA
DESCRIPTION:https://www.atlantaonthecheap.com/event/groovin-on-the-green-dunwoody-2/
DTSTART;TZID=America/New_York:20260702T180000
DTEND;TZID=America/New_York:20260702T210000
SUMMARY:Groovin' on the Green outdoor concert and food trucks
URL;VALUE=URI:https://www.atlantaonthecheap.com/event/groovin-on-the-green-dunwoody-2/
DTSTAMP:20260422T040719
UID:69e881b7f40a8
END:VEVENT
END:VCALENDAR