BEGIN:VCALENDAR
VERSION:2.0
PRODID:-//hacksw/handcal//NONSGML v1.0//EN
CALSCALE:GREGORIAN
BEGIN:VEVENT
LOCATION:Depot Park (Kennesaw)\, 2828 Cherokee St. \, Kennesaw\, GA
DESCRIPTION:https://www.atlantaonthecheap.com/event/kennesaw-concert-series-4/
DTSTART;TZID=America/New_York:20260926T190000
DTEND;TZID=America/New_York:20260926T220000
SUMMARY:Kennesaw Concert Series: Dancing Dream (ABBA tribute)
URL;VALUE=URI:https://www.atlantaonthecheap.com/event/kennesaw-concert-series-4/
DTSTAMP:20260423T043611
UID:69e9d9fb96da5
END:VEVENT
END:VCALENDAR