BEGIN:VCALENDAR
VERSION:2.0
PRODID:-//hacksw/handcal//NONSGML v1.0//EN
CALSCALE:GREGORIAN
BEGIN:VEVENT
LOCATION:College-Temple Historic District (Newnan)
DESCRIPTION:https://www.atlantaonthecheap.com/event/newnan-porchfest/
DTSTART;TZID=America/New_York:20260530T120000
DTEND;TZID=America/New_York:20260530T210000
SUMMARY:Newnan Porchfest
URL;VALUE=URI:https://www.atlantaonthecheap.com/event/newnan-porchfest/
DTSTAMP:20260424T232618
UID:69ec345a20ba7
END:VEVENT
END:VCALENDAR