BEGIN:VCALENDAR
VERSION:2.0
PRODID:-//hacksw/handcal//NONSGML v1.0//EN
CALSCALE:GREGORIAN
BEGIN:VEVENT
LOCATION:Brook Run Park (Dunwoody)\, 4770 North Peachtree Rd. \, Dunwoody\, GA
DESCRIPTION:https://www.atlantaonthecheap.com/event/lemonade-days-festival-dunwoody-3/
DTSTART;TZID=America/New_York:20260426T120000
DTEND;TZID=America/New_York:20260426T180000
SUMMARY:Lemonade Days Festival
URL;VALUE=URI:https://www.atlantaonthecheap.com/event/lemonade-days-festival-dunwoody-3/
DTSTAMP:20260424T010547
UID:69eafa2bb66e9
END:VEVENT
END:VCALENDAR