BEGIN:VCALENDAR
VERSION:2.0
PRODID:-//hacksw/handcal//NONSGML v1.0//EN
CALSCALE:GREGORIAN
BEGIN:VEVENT
LOCATION:Brook Run Park (Dunwoody)\, 4770 North Peachtree Rd. \, Dunwoody\, GA
DESCRIPTION:https://www.atlantaonthecheap.com/event/lemonade-days-festival-dunwoody-2/
DTSTART;TZID=America/New_York:20260425T100000
DTEND;TZID=America/New_York:20260425T220000
SUMMARY:Lemonade Days Festival
URL;VALUE=URI:https://www.atlantaonthecheap.com/event/lemonade-days-festival-dunwoody-2/
DTSTAMP:20260424T010705
UID:69eafa790c123
END:VEVENT
END:VCALENDAR