BEGIN:VCALENDAR
VERSION:2.0
PRODID:-//hacksw/handcal//NONSGML v1.0//EN
CALSCALE:GREGORIAN
BEGIN:VEVENT
LOCATION:Sandy Springs Municipal Complex (620 Morgan Falls Rd)
DESCRIPTION:https://www.atlantaonthecheap.com/event/sandy-springs-lantern-parade/
DTSTART;TZID=America/New_York:20260509T180000
DTEND;TZID=America/New_York:20260509T213000
SUMMARY:Take it to the River lantern parade\, and pre-parade activities
URL;VALUE=URI:https://www.atlantaonthecheap.com/event/sandy-springs-lantern-parade/
DTSTAMP:20260424T005157
UID:69eaf6ed26d95
END:VEVENT
END:VCALENDAR