BEGIN:VCALENDAR
VERSION:2.0
PRODID:-//hacksw/handcal//NONSGML v1.0//EN
CALSCALE:GREGORIAN
BEGIN:VEVENT
LOCATION:Downtown Alpharetta business district
DESCRIPTION:https://www.atlantaonthecheap.com/event/taste-of-alpharetta/
DTSTART;TZID=America/New_York:20260514T170000
DTEND;TZID=America/New_York:20260514T220000
SUMMARY:Taste of Alpharetta (free admission\, pay for tasting tickets)
URL;VALUE=URI:https://www.atlantaonthecheap.com/event/taste-of-alpharetta/
DTSTAMP:20260422T065403
UID:69e8a8cb212d9
END:VEVENT
END:VCALENDAR