BEGIN:VCALENDAR
VERSION:2.0
PRODID:-//hacksw/handcal//NONSGML v1.0//EN
CALSCALE:GREGORIAN
BEGIN:VEVENT
LOCATION:Marietta Square\, 50 N. Park Square NE\, Marietta\, GA
DESCRIPTION:https://www.atlantaonthecheap.com/event/glover-park-concert-series-5/
DTSTART;TZID=America/New_York:20260925T200000
DTEND;TZID=America/New_York:20260925T235900
SUMMARY:Glover Park Concert Series: Nashville Nation (modern country hits)
URL;VALUE=URI:https://www.atlantaonthecheap.com/event/glover-park-concert-series-5/
DTSTAMP:20260422T030113
UID:69e872392a2fd
END:VEVENT
END:VCALENDAR