BEGIN:VCALENDAR
VERSION:2.0
PRODID:-//hacksw/handcal//NONSGML v1.0//EN
CALSCALE:GREGORIAN
BEGIN:VEVENT
LOCATION:Marietta Square\, 50 N. Park Square NE\, Marietta\, GA
DESCRIPTION:https://www.atlantaonthecheap.com/event/glover-park-concert-series-4/
DTSTART;TZID=America/New_York:20260731T200000
DTEND;TZID=America/New_York:20260731T235900
SUMMARY:Glover Park Concert Series: Seven Bridges (Eagles tribute)
URL;VALUE=URI:https://www.atlantaonthecheap.com/event/glover-park-concert-series-4/
DTSTAMP:20260422T025344
UID:69e870782b415
END:VEVENT
END:VCALENDAR