BEGIN:VCALENDAR
VERSION:2.0
PRODID:-//hacksw/handcal//NONSGML v1.0//EN
CALSCALE:GREGORIAN
BEGIN:VEVENT
LOCATION:Marietta Square\, 50 N. Park Square NE\, Marietta\, GA
DESCRIPTION:https://www.atlantaonthecheap.com/event/glover-park-concert-series-3/
DTSTART;TZID=America/New_York:20260626T200000
DTEND;TZID=America/New_York:20260626T235900
SUMMARY:Glover Park Concert Series: Guardians of the Jukebox (80s hits)
URL;VALUE=URI:https://www.atlantaonthecheap.com/event/glover-park-concert-series-3/
DTSTAMP:20260422T030214
UID:69e8727642f65
END:VEVENT
END:VCALENDAR