BEGIN:VCALENDAR
VERSION:2.0
PRODID:-//hacksw/handcal//NONSGML v1.0//EN
CALSCALE:GREGORIAN
BEGIN:VEVENT
LOCATION:Marietta Square\, 50 N. Park Square NE\, Marietta\, GA
DESCRIPTION:https://www.atlantaonthecheap.com/event/glover-park-concert-series-2/
DTSTART;TZID=America/New_York:20260529T200000
DTEND;TZID=America/New_York:20260529T235900
SUMMARY:Glover Park Concert Series: AIA (Jimmy Buffett tribute)
URL;VALUE=URI:https://www.atlantaonthecheap.com/event/glover-park-concert-series-2/
DTSTAMP:20260422T025449
UID:69e870b98130c
END:VEVENT
END:VCALENDAR