BEGIN:VCALENDAR
VERSION:2.0
PRODID:-//hacksw/handcal//NONSGML v1.0//EN
CALSCALE:GREGORIAN
BEGIN:VEVENT
LOCATION:Marietta Square\, 50 N. Park Square NE\, Marietta\, GA
DESCRIPTION:https://www.atlantaonthecheap.com/event/glover-park-concert-series/
DTSTART;TZID=America/New_York:20260424T200000
DTEND;TZID=America/New_York:20260424T235900
SUMMARY:Glover Park Concert Series: Yacht Rock Schooner
URL;VALUE=URI:https://www.atlantaonthecheap.com/event/glover-park-concert-series/
DTSTAMP:20260422T025832
UID:69e871981b3dc
END:VEVENT
END:VCALENDAR