BEGIN:VCALENDAR
VERSION:2.0
PRODID:-//hacksw/handcal//NONSGML v1.0//EN
CALSCALE:GREGORIAN
BEGIN:VEVENT
LOCATION:Marietta Square\, 50 N. Park Square NE\, Marietta\, GA
DESCRIPTION:https://www.atlantaonthecheap.com/event/taste-of-marietta/
DTSTART;TZID=America/New_York:20260426T110000
DTEND;TZID=America/New_York:20260426T190000
SUMMARY:Taste of Marietta food festival - admission and entertainment is free\, you pay $1-5 for food tastes
URL;VALUE=URI:https://www.atlantaonthecheap.com/event/taste-of-marietta/
DTSTAMP:20260424T005815
UID:69eaf867696f9
END:VEVENT
END:VCALENDAR