BEGIN:VCALENDAR
VERSION:2.0
PRODID:-//hacksw/handcal//NONSGML v1.0//EN
CALSCALE:GREGORIAN
BEGIN:VEVENT
LOCATION:
DESCRIPTION:https://www.atlantaonthecheap.com/event/georgia-renaissance-festival-atlanta-2/
DTSTART;TZID=America/New_York:20260525T103000
DTEND;TZID=America/New_York:20260525T180000
SUMMARY:Georgia Renaissance Festival
URL;VALUE=URI:https://www.atlantaonthecheap.com/event/georgia-renaissance-festival-atlanta-2/
DTSTAMP:20260419T153149
UID:69e52da55c7b3
END:VEVENT
END:VCALENDAR