BEGIN:VCALENDAR
VERSION:2.0
PRODID:-//hacksw/handcal//NONSGML v1.0//EN
CALSCALE:GREGORIAN
BEGIN:VEVENT
LOCATION:Smyrna Village Green
DESCRIPTION:https://www.atlantaonthecheap.com/event/spring-jonquil-festival-smyrna/
DTSTART;TZID=America/New_York:20260425T100000
DTEND;TZID=America/New_York:20260425T180000
SUMMARY:Smyrna Spring Jonquil Festival
URL;VALUE=URI:https://www.atlantaonthecheap.com/event/spring-jonquil-festival-smyrna/
DTSTAMP:20260424T011219
UID:69eafbb3af340
END:VEVENT
END:VCALENDAR